BEGIN:VCALENDAR
VERSION:2.0
PRODID:-//Nordicwalking.lu - ECPv4.9.1.1//NONSGML v1.0//EN
CALSCALE:GREGORIAN
METHOD:PUBLISH
X-WR-CALNAME:Nordicwalking.lu
X-ORIGINAL-URL:https://nordicwalking.lu
X-WR-CALDESC:Veranstaltungen im Nordicwalking.lu
BEGIN:VEVENT
DTSTART;TZID=Europe/Berlin:20191219T083000
DTEND;TZID=Europe/Berlin:20191219T100000
DTSTAMP:20200127T124901
CREATED:20190822T124545Z
LAST-MODIFIED:20190822T124545Z
UID:771-1576740600-1576746000@nordicwalking.lu
SUMMARY:Roodt/Syre
DESCRIPTION:[vc_row][vc_column][vc_column_text]P Fischer Bäcker[/vc_column_text][/vc_column][/vc_row][vc_row][vc_column][vc_gmaps link=“#E-8_JTNDaWZyYW1lJTIwc3JjJTNEJTIyaHR0cHMlM0ElMkYlMkZ3d3cuZ29vZ2xlLmNvbSUyRm1hcHMlMkZlbWJlZCUzRnBiJTNEJTIxMW0xOCUyMTFtMTIlMjExbTMlMjExZDI1ODIuODY2NjkyNzUxNzExJTIxMmQ2LjI5MDYwMDg0ODM3MDI2OSUyMTNkNDkuNjU2ODExMDAwNjAxMDI0JTIxMm0zJTIxMWYwJTIxMmYwJTIxM2YwJTIxM20yJTIxMWkxMDI0JTIxMmk3NjglMjE0ZjEzLjElMjEzbTMlMjExbTIlMjExczB4NDc5NTQzNmRhNTAwNmRjZiUyNTNBMHhiOWMyYWU2MmE3Y2RkMWE1JTIxMnNQYW5lbHV4JTJCUy5hLiUyMTVlMCUyMTNtMiUyMTFzZGUlMjEyc2x1JTIxNHYxNTY2NDcwMjA2OTA3JTIxNW0yJTIxMXNkZSUyMTJzbHUlMjIlMjB3aWR0aCUzRCUyMjYwMCUyMiUyMGhlaWdodCUzRCUyMjQ1MCUyMiUyMGZyYW1lYm9yZGVyJTNEJTIyMCUyMiUyMHN0eWxlJTNEJTIyYm9yZGVyJTNBMCUyMiUyMGFsbG93ZnVsbHNjcmVlbiUzRSUzQyUyRmlmcmFtZSUzRQ==“][/vc_column][/vc_row] \nFree Download WordPress ThemesDownload Premium WordPress Themes FreeDownload WordPress ThemesFree Download WordPress Themesudemy paid course free downloaddownload huawei firmwareDownload Best WordPress Themes Free Downloadonline free course
URL:https://nordicwalking.lu/trainingsangebot/roodt-syre/
LOCATION:Roodt/Syre
CATEGORIES:Donnerstag,Jutta Kanstein
END:VEVENT
END:VCALENDAR