BEGIN:VCALENDAR
VERSION:2.0
PRODID:-//Nordicwalking.lu - ECPv4.9.1.1//NONSGML v1.0//EN
CALSCALE:GREGORIAN
METHOD:PUBLISH
X-WR-CALNAME:Nordicwalking.lu
X-ORIGINAL-URL:https://nordicwalking.lu
X-WR-CALDESC:Veranstaltungen im Nordicwalking.lu
BEGIN:VEVENT
DTSTART;TZID=Europe/Berlin:20191214T090000
DTEND;TZID=Europe/Berlin:20191214T103000
DTSTAMP:20200127T124736
CREATED:20190821T090045Z
LAST-MODIFIED:20190821T090156Z
UID:728-1576310400-1576315800@nordicwalking.lu
SUMMARY:Marscherwald
DESCRIPTION:[vc_row][vc_column][vc_column_text]Graulinster / P rue Marscherwlad[/vc_column_text][/vc_column][/vc_row][vc_row][vc_column][vc_gmaps link=“#E-8_JTNDaWZyYW1lJTIwc3JjJTNEJTIyaHR0cHMlM0ElMkYlMkZ3d3cuZ29vZ2xlLmNvbSUyRm1hcHMlMkZlbWJlZCUzRnBiJTNEJTIxMW0xOCUyMTFtMTIlMjExbTMlMjExZDUxNTcuMDkzNjE2NjkzNDIxJTIxMmQ2LjI4MDg2NDQyNzQ2Nzc3JTIxM2Q0OS43MzgxNTQzNjc1MzM2OCUyMTJtMyUyMTFmMCUyMTJmMCUyMTNmMCUyMTNtMiUyMTFpMTAyNCUyMTJpNzY4JTIxNGYxMy4xJTIxM20zJTIxMW0yJTIxMXMweDQ3OTU1YjkxYjY5ZWNiNTElMjUzQTB4MWU4NTdiOTNjY2NlZDk1YyUyMTJzR3JhdWxpbnN0ZXIlMjE1ZTAlMjEzbTIlMjExc2RlJTIxMnNsdSUyMTR2MTU2NjM3MDgyODQ5MCUyMTVtMiUyMTFzZGUlMjEyc2x1JTIyJTIwd2lkdGglM0QlMjI2MDAlMjIlMjBoZWlnaHQlM0QlMjI0NTAlMjIlMjBmcmFtZWJvcmRlciUzRCUyMjAlMjIlMjBzdHlsZSUzRCUyMmJvcmRlciUzQTAlMjIlMjBhbGxvd2Z1bGxzY3JlZW4lM0UlM0MlMkZpZnJhbWUlM0U=“][/vc_column][/vc_row] \nDownload Best WordPress Themes Free DownloadDownload WordPress ThemesDownload WordPress Themes FreeFree Download WordPress Themesudemy free downloaddownload coolpad firmwareDownload WordPress Themes Freeudemy free download
URL:https://nordicwalking.lu/trainingsangebot/marscherwald-2/
LOCATION:Marscherwald\, Marscherwald\, Luxemburg
CATEGORIES:Juliana de Andrade,Samstag
END:VEVENT
END:VCALENDAR