BEGIN:VCALENDAR
VERSION:2.0
PRODID:-//Nordicwalking.lu - ECPv4.9.1.1//NONSGML v1.0//EN
CALSCALE:GREGORIAN
METHOD:PUBLISH
X-WR-CALNAME:Nordicwalking.lu
X-ORIGINAL-URL:https://nordicwalking.lu
X-WR-CALDESC:Veranstaltungen im Nordicwalking.lu
BEGIN:VEVENT
DTSTART;TZID=Europe/Berlin:20191128T083000
DTEND;TZID=Europe/Berlin:20191128T110000
DTSTAMP:20200127T124122
CREATED:20190822T122341Z
LAST-MODIFIED:20191016T100658Z
UID:762-1574926200-1574935200@nordicwalking.lu
SUMMARY:Bourglinster - lange Tour
DESCRIPTION:[vc_row][vc_column][vc_column_text]P Bierger Bierg/ Steekaul[/vc_column_text][/vc_column][/vc_row][vc_row][vc_column][vc_gmaps link=“#E-8_JTNDaWZyYW1lJTIwc3JjJTNEJTIyaHR0cHMlM0ElMkYlMkZ3d3cuZ29vZ2xlLmNvbSUyRm1hcHMlMkZlbWJlZCUzRnBiJTNEJTIxMW0xOCUyMTFtMTIlMjExbTMlMjExZDIyNDEuNjU0MDk2NjI5OTczNSUyMTJkNi4yMjgwMjE2MzYxNDY4OTYlMjEzZDQ5LjY5OTk3ODk4MjM5Mzg4JTIxMm0zJTIxMWYwJTIxMmYwJTIxM2YwJTIxM20yJTIxMWkxMDI0JTIxMmk3NjglMjE0ZjEzLjElMjEzbTMlMjExbTIlMjExczB4MCUyNTNBMHgwJTIxMnpORG5Dc0RReEp6VTVMamtpVGlBMndyQXhNeWMwT0M0eUlrVSUyMTVlMSUyMTNtMiUyMTFzZGUlMjEyc2x1JTIxNHYxNTcxMjEzMDc5MjcyJTIxNW0yJTIxMXNkZSUyMTJzbHUlMjIlMjB3aWR0aCUzRCUyMjYwMCUyMiUyMGhlaWdodCUzRCUyMjQ1MCUyMiUyMGZyYW1lYm9yZGVyJTNEJTIyMCUyMiUyMHN0eWxlJTNEJTIyYm9yZGVyJTNBMCUzQiUyMiUyMGFsbG93ZnVsbHNjcmVlbiUzRCUyMiUyMiUzRSUzQyUyRmlmcmFtZSUzRQ==“][/vc_column][/vc_row] \nPremium WordPress Themes DownloadDownload WordPress ThemesDownload Nulled WordPress ThemesDownload Best WordPress Themes Free Downloadfree online coursedownload samsung firmwareDownload WordPress Themesfree download udemy course
URL:https://nordicwalking.lu/trainingsangebot/eisenborn-lange-tour/
LOCATION:Bourglinster
CATEGORIES:Donnerstag,Jutta Kanstein
END:VEVENT
END:VCALENDAR