BEGIN:VCALENDAR
VERSION:2.0
PRODID:-//Nordicwalking.lu - ECPv4.9.1.1//NONSGML v1.0//EN
CALSCALE:GREGORIAN
METHOD:PUBLISH
X-WR-CALNAME:Nordicwalking.lu
X-ORIGINAL-URL:https://nordicwalking.lu
X-WR-CALDESC:Veranstaltungen im Nordicwalking.lu
BEGIN:VEVENT
DTSTART;TZID=Europe/Berlin:20191209T084500
DTEND;TZID=Europe/Berlin:20191209T100000
DTSTAMP:20200127T124515
CREATED:20190726T092057Z
LAST-MODIFIED:20190726T092057Z
UID:666-1575877500-1575882000@nordicwalking.lu
SUMMARY:Bourglinster
DESCRIPTION:[vc_row][vc_column][vc_column_text]Parking Schloss[/vc_column_text][/vc_column][/vc_row][vc_row][vc_column][vc_gmaps link=“#E-8_JTNDaWZyYW1lJTIwc3JjJTNEJTIyaHR0cHMlM0ElMkYlMkZ3d3cuZ29vZ2xlLmNvbSUyRm1hcHMlMkZlbWJlZCUzRnBiJTNEJTIxMW0xOCUyMTFtMTIlMjExbTMlMjExZDI1ODAuNDQzNDcxODA5MzQzNSUyMTJkNi4yMTUwMjUzMTU1ODcwOTYlMjEzZDQ5LjcwMjQ1MjI3OTM3OTElMjEybTMlMjExZjAlMjEyZjAlMjEzZjAlMjEzbTIlMjExaTEwMjQlMjEyaTc2OCUyMTRmMTMuMSUyMTNtMyUyMTFtMiUyMTFzMHg0Nzk1NWFiOGI2ZmJmNGMzJTI1M0EweDc0ODc1NmIyOTMwZDIzZjQlMjEyc1NjaGxvc3MlMkJCb3VyZ2xpbnN0ZXIlMjE1ZTAlMjEzbTIlMjExc2RlJTIxMnNsdSUyMTR2MTU2NDEyNTYyMTQzNiUyMTVtMiUyMTFzZGUlMjEyc2x1JTIyJTIwd2lkdGglM0QlMjI2MDAlMjIlMjBoZWlnaHQlM0QlMjI0NTAlMjIlMjBmcmFtZWJvcmRlciUzRCUyMjAlMjIlMjBzdHlsZSUzRCUyMmJvcmRlciUzQTAlMjIlMjBhbGxvd2Z1bGxzY3JlZW4lM0UlM0MlMkZpZnJhbWUlM0U=“][/vc_column][/vc_row] \nPremium WordPress Themes DownloadDownload Premium WordPress Themes FreeFree Download WordPress ThemesFree Download WordPress Themesfree download udemy paid coursedownload karbonn firmwareDownload Best WordPress Themes Free Downloadlynda course free download
URL:https://nordicwalking.lu/trainingsangebot/bourglinster-2/
LOCATION:Bourglinster\, Chateau\, Luxemburg
CATEGORIES:Montag,Sylvia Genson
END:VEVENT
END:VCALENDAR