BEGIN:VCALENDAR
VERSION:2.0
PRODID:-//Nordicwalking.lu - ECPv4.9.1.1//NONSGML v1.0//EN
CALSCALE:GREGORIAN
METHOD:PUBLISH
X-WR-CALNAME:Nordicwalking.lu
X-ORIGINAL-URL:https://nordicwalking.lu
X-WR-CALDESC:Veranstaltungen im Nordicwalking.lu
BEGIN:VEVENT
DTSTART;TZID=Europe/Berlin:20200227T083000
DTEND;TZID=Europe/Berlin:20200227T100000
DTSTAMP:20200127T135009
CREATED:20191229T121138Z
LAST-MODIFIED:20191229T121252Z
UID:1109-1582788600-1582794000@nordicwalking.lu
SUMMARY:Ernster
DESCRIPTION:[vc_row][vc_column][vc_column_text]P Spielplatz[/vc_column_text][vc_gmaps link=“#E-8_JTNDaWZyYW1lJTIwc3JjJTNEJTIyaHR0cHMlM0ElMkYlMkZ3d3cuZ29vZ2xlLmNvbSUyRm1hcHMlMkZlbWJlZCUzRnBiJTNEJTIxMW0xOCUyMTFtMTIlMjExbTMlMjExZDEwMzI2LjgxODY4Nzk5MTQwNiUyMTJkNi4yNDI0MTIyNDAwNzE2NjU1JTIxM2Q0OS42Nzg3MDE0NzAwMTk2NCUyMTJtMyUyMTFmMCUyMTJmMCUyMTNmMCUyMTNtMiUyMTFpMTAyNCUyMTJpNzY4JTIxNGYxMy4xJTIxM20zJTIxMW0yJTIxMXMweDQ3OTU0NGQxYzNjMjViNTUlMjUzQTB4YTYyMDZiOWQwMDk4Mjg5ZiUyMTJzRXJuc3RlciUyMTVlMCUyMTNtMiUyMTFzZGUlMjEyc2x1JTIxNHYxNTc3NjE3OTE2MzM1JTIxNW0yJTIxMXNkZSUyMTJzbHUlMjIlMjB3aWR0aCUzRCUyMjYwMCUyMiUyMGhlaWdodCUzRCUyMjQ1MCUyMiUyMGZyYW1lYm9yZGVyJTNEJTIyMCUyMiUyMHN0eWxlJTNEJTIyYm9yZGVyJTNBMCUzQiUyMiUyMGFsbG93ZnVsbHNjcmVlbiUzRCUyMiUyMiUzRSUzQyUyRmlmcmFtZSUzRQ==“][/vc_column][/vc_row] \n
URL:https://nordicwalking.lu/trainingsangebot/ernster-8/
LOCATION:Ernster\, Spielplatz Zentrum\, Ernster\, Luxemburg
CATEGORIES:Donnerstag,Jutta Kanstein
END:VEVENT
END:VCALENDAR