BEGIN:VCALENDAR
VERSION:2.0
PRODID:-//Nordicwalking.lu - ECPv4.9.1.1//NONSGML v1.0//EN
CALSCALE:GREGORIAN
METHOD:PUBLISH
X-WR-CALNAME:Nordicwalking.lu
X-ORIGINAL-URL:https://nordicwalking.lu
X-WR-CALDESC:Veranstaltungen im Nordicwalking.lu
BEGIN:VEVENT
DTSTART;TZID=Europe/Berlin:20200224T084500
DTEND;TZID=Europe/Berlin:20200224T100000
DTSTAMP:20200127T133347
CREATED:20191217T180142Z
LAST-MODIFIED:20191217T180142Z
UID:1033-1582530300-1582534800@nordicwalking.lu
SUMMARY:Ernster
DESCRIPTION:[vc_row][vc_column][vc_column_text]P Spielplatz Dorfmitte[/vc_column_text][vc_gmaps link=“#E-8_JTNDaWZyYW1lJTIwc3JjJTNEJTIyaHR0cHMlM0ElMkYlMkZ3d3cuZ29vZ2xlLmNvbSUyRm1hcHMlMkZlbWJlZCUzRnBiJTNEJTIxMW0xOCUyMTFtMTIlMjExbTMlMjExZDI1ODEuNjg1NzI0NDQxMzQ4JTIxMmQ2LjI0NTUwOTgxNTU5NjE0NiUyMTNkNDkuNjc5MDU4MzUwNTI1MjI0JTIxMm0zJTIxMWYwJTIxMmYwJTIxM2YwJTIxM20yJTIxMWkxMDI0JTIxMmk3NjglMjE0ZjEzLjElMjEzbTMlMjExbTIlMjExczB4NDc5NTQ0ZDFhZGUzMjQ0NSUyNTNBMHhkNDA0NGRkZWExMTQ3OTg5JTIxMnMxMSUyNTIwUnVlJTI1MjBQcmluY2lwYWxlJTI1MkMlMjUyMDYxNjUlMjUyMEVybnN0ZXIlMjE1ZTAlMjEzbTIlMjExc2RlJTIxMnNsdSUyMTR2MTU3NjYwMjA3MTgwMSUyMTVtMiUyMTFzZGUlMjEyc2x1JTIyJTIwd2lkdGglM0QlMjI2MDAlMjIlMjBoZWlnaHQlM0QlMjI0NTAlMjIlMjBmcmFtZWJvcmRlciUzRCUyMjAlMjIlMjBzdHlsZSUzRCUyMmJvcmRlciUzQTAlM0IlMjIlMjBhbGxvd2Z1bGxzY3JlZW4lM0QlMjIlMjIlM0UlM0MlMkZpZnJhbWUlM0U=“][/vc_column][/vc_row] \n
URL:https://nordicwalking.lu/trainingsangebot/ernster-6/
CATEGORIES:Montag,Sylvia Genson
END:VEVENT
END:VCALENDAR