BEGIN:VCALENDAR
VERSION:2.0
PRODID:-//Nordicwalking.lu - ECPv4.9.1.1//NONSGML v1.0//EN
CALSCALE:GREGORIAN
METHOD:PUBLISH
X-WR-CALNAME:Nordicwalking.lu
X-ORIGINAL-URL:https://nordicwalking.lu
X-WR-CALDESC:Veranstaltungen im Nordicwalking.lu
BEGIN:VEVENT
DTSTART;TZID=Europe/Berlin:20200222T090000
DTEND;TZID=Europe/Berlin:20200222T103000
DTSTAMP:20200127T130858
CREATED:20191230T115151Z
LAST-MODIFIED:20191230T115303Z
UID:1145-1582358400-1582363800@nordicwalking.lu
SUMMARY:Hostert
DESCRIPTION:[vc_row][vc_column][vc_column_text]P Footballterrain/US Hoster[/vc_column_text][vc_gmaps link=“#E-8_JTNDaWZyYW1lJTIwc3JjJTNEJTIyaHR0cHMlM0ElMkYlMkZ3d3cuZ29vZ2xlLmNvbSUyRm1hcHMlMkZlbWJlZCUzRnBiJTNEJTIxMW0xOCUyMTFtMTIlMjExbTMlMjExZDI1ODIuNzUxNDcxOTQyNjAyNiUyMTJkNi4yMjU2MjE3MTU1ODU0MjMlMjEzZDQ5LjY1ODk4MTg3OTM3Mzk4JTIxMm0zJTIxMWYwJTIxMmYwJTIxM2YwJTIxM20yJTIxMWkxMDI0JTIxMmk3NjglMjE0ZjEzLjElMjEzbTMlMjExbTIlMjExczB4NDc5NTQ1MWM4ZjM2ZjIwZiUyNTNBMHhkNDcyMmIyOWQzYzE2MTAlMjEyc0Zvb3RiYWxsJTI1MjBDbHViJTI1MjBIb3N0ZXJ0JTI1MjBVLlMuJTIxNWUwJTIxM20yJTIxMXNkZSUyMTJzbHUlMjE0djE1Nzc3MDMxNDU3NjElMjE1bTIlMjExc2RlJTIxMnNsdSUyMiUyMHdpZHRoJTNEJTIyNjAwJTIyJTIwaGVpZ2h0JTNEJTIyNDUwJTIyJTIwZnJhbWVib3JkZXIlM0QlMjIwJTIyJTIwc3R5bGUlM0QlMjJib3JkZXIlM0EwJTNCJTIyJTIwYWxsb3dmdWxsc2NyZWVuJTNEJTIyJTIyJTNFJTNDJTJGaWZyYW1lJTNF“][/vc_column][/vc_row] \n
URL:https://nordicwalking.lu/trainingsangebot/hostert-12/
LOCATION:Hostert\, Hostert\, Luxemburg
CATEGORIES:Juliana de Andrade,Samstag
END:VEVENT
END:VCALENDAR