BEGIN:VCALENDAR
VERSION:2.0
PRODID:-//Nordicwalking.lu - ECPv4.9.1.1//NONSGML v1.0//EN
CALSCALE:GREGORIAN
METHOD:PUBLISH
X-WR-CALNAME:Nordicwalking.lu
X-ORIGINAL-URL:https://nordicwalking.lu
X-WR-CALDESC:Veranstaltungen im Nordicwalking.lu
BEGIN:VEVENT
DTSTART;TZID=Europe/Berlin:20200220T083000
DTEND;TZID=Europe/Berlin:20200220T100000
DTSTAMP:20200127T130749
CREATED:20191229T120429Z
LAST-MODIFIED:20191229T120819Z
UID:1106-1582183800-1582189200@nordicwalking.lu
SUMMARY:Roodt/Syre /Fasching-Tour
DESCRIPTION:[vc_row][vc_column][vc_column_text]Details folgen zeitnah[/vc_column_text][vc_gmaps link=“#E-8_JTNDaWZyYW1lJTIwc3JjJTNEJTIyaHR0cHMlM0ElMkYlMkZ3d3cuZ29vZ2xlLmNvbSUyRm1hcHMlMkZlbWJlZCUzRnBiJTNEJTIxMW0xOCUyMTFtMTIlMjExbTMlMjExZDEwMzI5LjY0MTUwMzc4MDk4MiUyMTJkNi4yOTE4MTg1OTAwNjM0OCUyMTNkNDkuNjY1NDA4MDY5OTk0NDElMjEybTMlMjExZjAlMjEyZjAlMjEzZjAlMjEzbTIlMjExaTEwMjQlMjEyaTc2OCUyMTRmMTMuMSUyMTNtMyUyMTFtMiUyMTFzMHg0Nzk1NDM0NGMwODdhNTZmJTI1M0EweDUwMGQxZDZkMTA1ODJhMCUyMTJzUm9vZHQtc3VyLVN5cmUlMjE1ZTAlMjEzbTIlMjExc2RlJTIxMnNsdSUyMTR2MTU3NzYxNzczNTg1MyUyMTVtMiUyMTFzZGUlMjEyc2x1JTIyJTIwd2lkdGglM0QlMjI2MDAlMjIlMjBoZWlnaHQlM0QlMjI0NTAlMjIlMjBmcmFtZWJvcmRlciUzRCUyMjAlMjIlMjBzdHlsZSUzRCUyMmJvcmRlciUzQTAlM0IlMjIlMjBhbGxvd2Z1bGxzY3JlZW4lM0QlMjIlMjIlM0UlM0MlMkZpZnJhbWUlM0U=“][/vc_column][/vc_row] \n
URL:https://nordicwalking.lu/trainingsangebot/roodt-syre-fasching-tour/
LOCATION:Roodt/Syre\, Fischer Bäcker\, Roodt/Syre\, Luxemburg
CATEGORIES:Donnerstag,Jutta Kanstein
END:VEVENT
END:VCALENDAR