BEGIN:VCALENDAR
VERSION:2.0
PRODID:-//Nordicwalking.lu - ECPv4.9.1.1//NONSGML v1.0//EN
CALSCALE:GREGORIAN
METHOD:PUBLISH
X-WR-CALNAME:Nordicwalking.lu
X-ORIGINAL-URL:https://nordicwalking.lu
X-WR-CALDESC:Veranstaltungen im Nordicwalking.lu
BEGIN:VEVENT
DTSTART;TZID=Europe/Berlin:20200213T083000
DTEND;TZID=Europe/Berlin:20200213T110000
DTSTAMP:20200127T130410
CREATED:20191229T115637Z
LAST-MODIFIED:20191229T131424Z
UID:1104-1581579000-1581588000@nordicwalking.lu
SUMMARY:Flaxweiler - lange Tour
DESCRIPTION:[vc_row][vc_column][vc_column_text]P Centre Culturel[/vc_column_text][vc_gmaps link=“#E-8_JTNDaWZyYW1lJTIwc3JjJTNEJTIyaHR0cHMlM0ElMkYlMkZ3d3cuZ29vZ2xlLmNvbSUyRm1hcHMlMkZlbWJlZCUzRnBiJTNEJTIxMW0xOCUyMTFtMTIlMjExbTMlMjExZDQxMzM3Ljc1OTkzODM3NzIyJTIxMmQ2LjMyODMxMDYwNDY5MzQ2NSUyMTNkNDkuNjQyODA0NzE5MTIxMzElMjEybTMlMjExZjAlMjEyZjAlMjEzZjAlMjEzbTIlMjExaTEwMjQlMjEyaTc2OCUyMTRmMTMuMSUyMTNtMyUyMTFtMiUyMTFzMHg0Nzk1NDI4OTE4NjI1Yzk5JTI1M0EweDQwMGQxZDZkMTA1NzBhMCUyMTJzRmxheHdlaWxlciUyMTVlMCUyMTNtMiUyMTFzZGUlMjEyc2x1JTIxNHYxNTc3NjE3MDA0NDE4JTIxNW0yJTIxMXNkZSUyMTJzbHUlMjIlMjB3aWR0aCUzRCUyMjYwMCUyMiUyMGhlaWdodCUzRCUyMjQ1MCUyMiUyMGZyYW1lYm9yZGVyJTNEJTIyMCUyMiUyMHN0eWxlJTNEJTIyYm9yZGVyJTNBMCUzQiUyMiUyMGFsbG93ZnVsbHNjcmVlbiUzRCUyMiUyMiUzRSUzQyUyRmlmcmFtZSUzRQ==“][/vc_column][/vc_row] \n
URL:https://nordicwalking.lu/trainingsangebot/flaxweiler-lange-tour/
LOCATION:Flaxweiler
CATEGORIES:Donnerstag,Jutta Kanstein
END:VEVENT
END:VCALENDAR