BEGIN:VCALENDAR
VERSION:2.0
PRODID:-//Nordicwalking.lu - ECPv4.9.1.1//NONSGML v1.0//EN
CALSCALE:GREGORIAN
METHOD:PUBLISH
X-WR-CALNAME:Nordicwalking.lu
X-ORIGINAL-URL:https://nordicwalking.lu
X-WR-CALDESC:Veranstaltungen im Nordicwalking.lu
BEGIN:VEVENT
DTSTART;TZID=Europe/Berlin:20200212T141500
DTEND;TZID=Europe/Berlin:20200212T153000
DTSTAMP:20200127T130311
CREATED:20191231T151208Z
LAST-MODIFIED:20191231T151342Z
UID:1168-1581513300-1581517800@nordicwalking.lu
SUMMARY:Roodt/Syre
DESCRIPTION:[vc_row][vc_column][vc_column_text]P Gare CFL[/vc_column_text][vc_gmaps link=“#E-8_JTNDaWZyYW1lJTIwc3JjJTNEJTIyaHR0cHMlM0ElMkYlMkZ3d3cuZ29vZ2xlLmNvbSUyRm1hcHMlMkZlbWJlZCUzRnBiJTNEJTIxMW0xOCUyMTFtMTIlMjExbTMlMjExZDI1ODIuMzYzNDU2MzQ2Njg2JTIxMmQ2LjMwMDU0OTMxNTU4NTcxMSUyMTNkNDkuNjY2MjkxOTc5Mzc0OTclMjEybTMlMjExZjAlMjEyZjAlMjEzZjAlMjEzbTIlMjExaTEwMjQlMjEyaTc2OCUyMTRmMTMuMSUyMTNtMyUyMTFtMiUyMTFzMHg0Nzk1NDM0M2RiMzlkYTY1JTI1M0EweGQyMmE0ZTc0N2U4MDU3NzElMjEyc1Jvb2R0JTI1MkZTeXJlJTIxNWUwJTIxM20yJTIxMXNkZSUyMTJzbHUlMjE0djE1Nzc4MDE1NjExNjAlMjE1bTIlMjExc2RlJTIxMnNsdSUyMiUyMHdpZHRoJTNEJTIyNjAwJTIyJTIwaGVpZ2h0JTNEJTIyNDUwJTIyJTIwZnJhbWVib3JkZXIlM0QlMjIwJTIyJTIwc3R5bGUlM0QlMjJib3JkZXIlM0EwJTNCJTIyJTIwYWxsb3dmdWxsc2NyZWVuJTNEJTIyJTIyJTNFJTNDJTJGaWZyYW1lJTNF“][/vc_column][/vc_row] \n
URL:https://nordicwalking.lu/trainingsangebot/roodt-syre-5/
LOCATION:Roodt/Syre\, Fischer Bäcker\, Roodt/Syre\, Luxemburg
CATEGORIES:Mittwoch,Tündi Hertz
END:VEVENT
END:VCALENDAR