BEGIN:VCALENDAR
VERSION:2.0
PRODID:-//Nordicwalking.lu - ECPv4.9.1.1//NONSGML v1.0//EN
CALSCALE:GREGORIAN
METHOD:PUBLISH
X-WR-CALNAME:Nordicwalking.lu
X-ORIGINAL-URL:https://nordicwalking.lu
X-WR-CALDESC:Veranstaltungen im Nordicwalking.lu
BEGIN:VEVENT
DTSTART;TZID=Europe/Berlin:20200210T084500
DTEND;TZID=Europe/Berlin:20200210T100000
DTSTAMP:20200127T130210
CREATED:20191217T173735Z
LAST-MODIFIED:20191217T173947Z
UID:1031-1581320700-1581325200@nordicwalking.lu
SUMMARY:Eisenborn
DESCRIPTION:[vc_row][vc_column][vc_column_text]P Am Gatter Eisenborn[/vc_column_text][vc_gmaps link=“#E-8_JTNDaWZyYW1lJTIwc3JjJTNEJTIyaHR0cHMlM0ElMkYlMkZ3d3cuZ29vZ2xlLmNvbSUyRm1hcHMlMkZlbWJlZCUzRnBiJTNEJTIxMW0xOCUyMTFtMTIlMjExbTMlMjExZDE2MS4zMzc2MzE4NDI3MDcwOCUyMTJkNi4xODEzNDQ1NDg5NzMxNDUlMjEzZDQ5LjY4NDQwMDA2MTg5OSUyMTJtMyUyMTFmMCUyMTJmMCUyMTNmMCUyMTNtMiUyMTFpMTAyNCUyMTJpNzY4JTIxNGYxMy4xJTIxM20zJTIxMW0yJTIxMXMweDQ3OTU0ZmY2YTBmNDdhODclMjUzQTB4ODU4OWUxZjE3NGMyNDJiNyUyMTJzUm91dGUlMjUyMGRlJTI1MjBMdXhlbWJvdXJnJTIxNWUwJTIxM20yJTIxMXNkZSUyMTJzbHUlMjE0djE1NzY2MDA2MzgxNzMlMjE1bTIlMjExc2RlJTIxMnNsdSUyMiUyMHdpZHRoJTNEJTIyNjAwJTIyJTIwaGVpZ2h0JTNEJTIyNDUwJTIyJTIwZnJhbWVib3JkZXIlM0QlMjIwJTIyJTIwc3R5bGUlM0QlMjJib3JkZXIlM0EwJTNCJTIyJTIwYWxsb3dmdWxsc2NyZWVuJTNEJTIyJTIyJTNFJTNDJTJGaWZyYW1lJTNF“][/vc_column][/vc_row] \n
URL:https://nordicwalking.lu/trainingsangebot/eisenborn-5/
CATEGORIES:Montag,Sylvia Genson
END:VEVENT
END:VCALENDAR