BEGIN:VCALENDAR
VERSION:2.0
PRODID:-//Nordicwalking.lu - ECPv4.9.1.1//NONSGML v1.0//EN
CALSCALE:GREGORIAN
METHOD:PUBLISH
X-WR-CALNAME:Nordicwalking.lu
X-ORIGINAL-URL:https://nordicwalking.lu
X-WR-CALDESC:Veranstaltungen im Nordicwalking.lu
BEGIN:VEVENT
DTSTART;TZID=Europe/Berlin:20200206T083000
DTEND;TZID=Europe/Berlin:20200206T100000
DTSTAMP:20200127T125958
CREATED:20191229T115229Z
LAST-MODIFIED:20191229T115352Z
UID:1102-1580974200-1580979600@nordicwalking.lu
SUMMARY:Betzdorf
DESCRIPTION:[vc_row][vc_column][vc_column_text]P Alte Schule[/vc_column_text][vc_gmaps link=“#E-8_JTNDaWZyYW1lJTIwc3JjJTNEJTIyaHR0cHMlM0ElMkYlMkZ3d3cuZ29vZ2xlLmNvbSUyRm1hcHMlMkZlbWJlZCUzRnBiJTNEJTIxMW0xOCUyMTFtMTIlMjExbTMlMjExZDQxMzE0LjQ0NTMzNjQwOTk2JTIxMmQ2LjI5MjUwMDYwNDk2NTA1MiUyMTNkNDkuNjcwMjU5NzE5OTUxMjc1JTIxMm0zJTIxMWYwJTIxMmYwJTIxM2YwJTIxM20yJTIxMWkxMDI0JTIxMmk3NjglMjE0ZjEzLjElMjEzbTMlMjExbTIlMjExczB4NDc5NTQzMjVjMTkwZDY3MSUyNTNBMHg0MDBkMWQ2ZDEwNTcwODAlMjEyc0JldHpkb3JmJTIxNWUwJTIxM20yJTIxMXNkZSUyMTJzbHUlMjE0djE1Nzc2MTY3NTg2MTglMjE1bTIlMjExc2RlJTIxMnNsdSUyMiUyMHdpZHRoJTNEJTIyNjAwJTIyJTIwaGVpZ2h0JTNEJTIyNDUwJTIyJTIwZnJhbWVib3JkZXIlM0QlMjIwJTIyJTIwc3R5bGUlM0QlMjJib3JkZXIlM0EwJTNCJTIyJTIwYWxsb3dmdWxsc2NyZWVuJTNEJTIyJTIyJTNFJTNDJTJGaWZyYW1lJTNF“][/vc_column][/vc_row] \n
URL:https://nordicwalking.lu/trainingsangebot/betzdorf-4/
LOCATION:betzdorf\, Betzdorf\, Luxemburg
CATEGORIES:Donnerstag,Jutta Kanstein
END:VEVENT
END:VCALENDAR