BEGIN:VCALENDAR
VERSION:2.0
PRODID:-//Nordicwalking.lu - ECPv4.9.1.1//NONSGML v1.0//EN
CALSCALE:GREGORIAN
METHOD:PUBLISH
X-WR-CALNAME:Nordicwalking.lu
X-ORIGINAL-URL:https://nordicwalking.lu
X-WR-CALDESC:Veranstaltungen im Nordicwalking.lu
BEGIN:VEVENT
DTSTART;TZID=Europe/Berlin:20200205T141500
DTEND;TZID=Europe/Berlin:20200205T153000
DTSTAMP:20200127T125337
CREATED:20191231T150240Z
LAST-MODIFIED:20191231T150403Z
UID:1166-1580908500-1580913000@nordicwalking.lu
SUMMARY:Senningerberg
DESCRIPTION:[vc_row][vc_column][vc_column_text]P Charly’s Gare/Wasserturm[/vc_column_text][vc_gmaps link=“#E-8_JTNDaWZyYW1lJTIwc3JjJTNEJTIyaHR0cHMlM0ElMkYlMkZ3d3cuZ29vZ2xlLmNvbSUyRm1hcHMlMkZlbWJlZCUzRnBiJTNEJTIxMW0xOCUyMTFtMTIlMjExbTMlMjExZDI1ODMuMjQ3MTcyMjAyMTMxNCUyMTJkNi4yMjM3NDg4MTU1ODUwOTk1JTIxM2Q0OS42NDk2NDE4NzkzNzI5MiUyMTJtMyUyMTFmMCUyMTJmMCUyMTNmMCUyMTNtMiUyMTFpMTAyNCUyMTJpNzY4JTIxNGYxMy4xJTIxM20zJTIxMW0yJTIxMXMweDQ3OTU0NTAxMjQ2NmRmYTMlMjUzQTB4MjhjMGU1ODRiOWFkNDVkNCUyMTJzQ2hhcmx5JTI2JTIzMzklM0JzJTI1MjBHYXJlJTIxNWUwJTIxM20yJTIxMXNkZSUyMTJzbHUlMjE0djE1Nzc4MDA5ODI1NjIlMjE1bTIlMjExc2RlJTIxMnNsdSUyMiUyMHdpZHRoJTNEJTIyNjAwJTIyJTIwaGVpZ2h0JTNEJTIyNDUwJTIyJTIwZnJhbWVib3JkZXIlM0QlMjIwJTIyJTIwc3R5bGUlM0QlMjJib3JkZXIlM0EwJTNCJTIyJTIwYWxsb3dmdWxsc2NyZWVuJTNEJTIyJTIyJTNFJTNDJTJGaWZyYW1lJTNF“][/vc_column][/vc_row] \n
URL:https://nordicwalking.lu/trainingsangebot/senningerberg-7/
LOCATION:Senningerberg\, Senningerberg\, Luxemburg
CATEGORIES:Mittwoch,Tündi Hertz
END:VEVENT
END:VCALENDAR