BEGIN:VCALENDAR
VERSION:2.0
PRODID:-//Nordicwalking.lu - ECPv4.9.1.1//NONSGML v1.0//EN
CALSCALE:GREGORIAN
METHOD:PUBLISH
X-WR-CALNAME:Nordicwalking.lu
X-ORIGINAL-URL:https://nordicwalking.lu
X-WR-CALDESC:Veranstaltungen im Nordicwalking.lu
BEGIN:VEVENT
DTSTART;TZID=Europe/Berlin:20200203T084500
DTEND;TZID=Europe/Berlin:20200203T100000
DTSTAMP:20200127T125228
CREATED:20190726T093416Z
LAST-MODIFIED:20191224T133235Z
UID:673-1580715900-1580720400@nordicwalking.lu
SUMMARY:Gonder.-Bourglinster
DESCRIPTION:[vc_row][vc_column][vc_column_text]Parking Plateau Bierger Bierg/Sandkaul[/vc_column_text][/vc_column][/vc_row][vc_row][vc_column][vc_gmaps link=“#E-8_JTNDaWZyYW1lJTIwc3JjJTNEJTIyaHR0cHMlM0ElMkYlMkZ3d3cuZ29vZ2xlLmNvbSUyRm1hcHMlMkZlbWJlZCUzRnBiJTNEJTIxMW0xOCUyMTFtMTIlMjExbTMlMjExZDEyMjcyLjU2ODYwNjkyODk0NiUyMTJkNi4yMTE4NzQ5OTI3MzE1NTclMjEzZDQ5LjcxMDk5NDkzMzAwNDY1JTIxMm0zJTIxMWYwJTIxMmYwJTIxM2YwJTIxM20yJTIxMWkxMDI0JTIxMmk3NjglMjE0ZjEzLjElMjEzbTMlMjExbTIlMjExczB4NDc5NTVhZTY4MmQ0NjZiOSUyNTNBMHg2OTAwMWUyNGI1YTkzZTZiJTIxMnNSdWUlMjUyMGRlJTI1MjBCb3VyZ2xpbnN0ZXIlMjUyQyUyNTIwSnVuZ2xpbnN0ZXIlMjE1ZTAlMjEzbTIlMjExc2RlJTIxMnNsdSUyMTR2MTU3NjU5OTg5ODgwMiUyMTVtMiUyMTFzZGUlMjEyc2x1JTIyJTIwd2lkdGglM0QlMjI2MDAlMjIlMjBoZWlnaHQlM0QlMjI0NTAlMjIlMjBmcmFtZWJvcmRlciUzRCUyMjAlMjIlMjBzdHlsZSUzRCUyMmJvcmRlciUzQTAlM0IlMjIlMjBhbGxvd2Z1bGxzY3JlZW4lM0QlMjIlMjIlM0UlM0MlMkZpZnJhbWUlM0U=“][/vc_column][/vc_row] \n
URL:https://nordicwalking.lu/trainingsangebot/p-gonderange-bourglinster/
LOCATION:Bourglinster
CATEGORIES:Montag,Sylvia Genson
END:VEVENT
END:VCALENDAR