BEGIN:VCALENDAR
VERSION:2.0
PRODID:-//Nordicwalking.lu - ECPv4.9.1.1//NONSGML v1.0//EN
CALSCALE:GREGORIAN
METHOD:PUBLISH
X-WR-CALNAME:Nordicwalking.lu
X-ORIGINAL-URL:https://nordicwalking.lu
X-WR-CALDESC:Veranstaltungen im Nordicwalking.lu
BEGIN:VEVENT
DTSTART;TZID=Europe/Berlin:20191221T090000
DTEND;TZID=Europe/Berlin:20191221T103000
DTSTAMP:20200127T123416
CREATED:20190821T090408Z
LAST-MODIFIED:20190821T090524Z
UID:730-1576915200-1576920600@nordicwalking.lu
SUMMARY:Hostert
DESCRIPTION:[vc_row][vc_column][vc_column_text]P Footballterrain[/vc_column_text][/vc_column][/vc_row][vc_row][vc_column][vc_gmaps link=“#E-8_JTNDaWZyYW1lJTIwc3JjJTNEJTIyaHR0cHMlM0ElMkYlMkZ3d3cuZ29vZ2xlLmNvbSUyRm1hcHMlMkZlbWJlZCUzRnBiJTNEJTIxMW0xOCUyMTFtMTIlMjExbTMlMjExZDI1ODIuNzUxNDcxOTQyNjAzJTIxMmQ2LjIyNTYyMTcxNTU4NTQzNSUyMTNkNDkuNjU4OTgxODc5MzczOTc1JTIxMm0zJTIxMWYwJTIxMmYwJTIxM2YwJTIxM20yJTIxMWkxMDI0JTIxMmk3NjglMjE0ZjEzLjElMjEzbTMlMjExbTIlMjExczB4NDc5NTQ1MWM4ZjM2ZjIwZiUyNTNBMHhkNDcyMmIyOWQzYzE2MTAlMjEyc0Zvb3RiYWxsJTJCQ2x1YiUyQkhvc3RlcnQlMkJVLlMuJTIxNWUwJTIxM20yJTIxMXNkZSUyMTJzbHUlMjE0djE1NjYzNzEwMjg4MDMlMjE1bTIlMjExc2RlJTIxMnNsdSUyMiUyMHdpZHRoJTNEJTIyNjAwJTIyJTIwaGVpZ2h0JTNEJTIyNDUwJTIyJTIwZnJhbWVib3JkZXIlM0QlMjIwJTIyJTIwc3R5bGUlM0QlMjJib3JkZXIlM0EwJTIyJTIwYWxsb3dmdWxsc2NyZWVuJTNFJTNDJTJGaWZyYW1lJTNF“][/vc_column][/vc_row] \n
URL:https://nordicwalking.lu/trainingsangebot/hostert-6/
LOCATION:Hostert\, Hostert\, Luxemburg
CATEGORIES:Juliana de Andrade,Samstag
END:VEVENT
END:VCALENDAR